BEGIN:VCALENDAR
VERSION:2.0
PRODID:-//ChamberMaster//Event Calendar 2.0//EN
METHOD:PUBLISH
X-PUBLISHED-TTL:P3D
REFRESH-INTERVAL:P3D
CALSCALE:GREGORIAN
BEGIN:VEVENT
DTSTART;VALUE=DATE:20250301
DTEND;VALUE=DATE:20250302
TRANSP:TRANSPARENT
X-MICROSOFT-CDO-ALLDAYEVENT:TRUE
SUMMARY:Save the Date for CASA Kane County's 31st Annual Children's Champion Celebration Gala!
DESCRIPTION:On Saturday\, March 1\, 2025\, CASA Kane County will host our 31st Annual Children's Champion Celebration Gala\; an inspirational and sell-out evening featuring a spectacular dinner\, dance\, raffles\, and live and silent auctions. Please join us to help Change a Child's Story !\n\n\n\nWe believe that every individual has the power to shine light into the darkness for children in our community who have experienced abuse and neglect. Each of us\, in our own way\, has the extraordinary ability to Change a Child's Story .
X-ALT-DESC;FMTTYPE=text/html:On Saturday\, March 1\, 2025\, CASA Kane County will host our 31st Annual Children&#39\;s Champion Celebration Gala\; an inspirational and sell-out evening featuring a spectacular dinner\, dance\, raffles\, and live and silent auctions. Please join us to help Change a Child&#39\;s Story&trade\;!<br />\n<br />\nWe believe that every individual has the power to shine light into the darkness for children in our community who have experienced abuse and neglect. Each of us\, in our own way\, has the extraordinary ability to&nbsp\;Change a Child&#39\;s Story&trade\;.
LOCATION:Q Center\, 1405 N 5th Ave\, Saint Charles IL 60174
UID:e.1902.26388
SEQUENCE:3
DTSTAMP:20260422T131740Z
URL:http://business.bataviachamber.org/events/details/save-the-date-for-casa-kane-county-s-children-champion-celebration-gala-26388
END:VEVENT

END:VCALENDAR
