BEGIN:VCALENDAR
VERSION:2.0
PRODID:-//ChamberMaster//Event Calendar 2.0//EN
METHOD:PUBLISH
X-PUBLISHED-TTL:P3D
REFRESH-INTERVAL:P3D
CALSCALE:GREGORIAN
BEGIN:VEVENT
DTSTART:20080815T120000Z
DTEND:20080815T150000Z
X-MICROSOFT-CDO-ALLDAYEVENT:FALSE
SUMMARY:Sam's Club Continental Breakfast
DESCRIPTION:Sam's Club will be hosting a multi-Chamber Continental Breakfast . It will be held from 7am to 10am 8/15/08. Bring your business cards and network with others.
X-ALT-DESC;FMTTYPE=text/html:Sam's Club will be hosting a multi-Chamber Continental Breakfast . It will be held from 7am to 10am 8/15/08. Bring your business cards and network with others.  
LOCATION:Sam's Club
UID:e.1902.1568
SEQUENCE:3
DTSTAMP:20260422T113654Z
URL:http://business.bataviachamber.org/events/details/sam-s-club-continental-breakfast-08-15-2008-1568
END:VEVENT

END:VCALENDAR
