BEGIN:VCALENDAR
VERSION:2.0
PRODID:-//ChamberMaster//Event Calendar 2.0//EN
METHOD:PUBLISH
X-PUBLISHED-TTL:P3D
REFRESH-INTERVAL:P3D
CALSCALE:GREGORIAN
BEGIN:VEVENT
DTSTART:20250607T130000Z
DTEND:20250607T170000Z
X-MICROSOFT-CDO-ALLDAYEVENT:FALSE
SUMMARY:Run for LIFE! - Suicide Prevention Services
DESCRIPTION:Suicide Prevention Services of Batavia Run For LIFE! 5K Run/Walk Fundraiser takes place on Saturday\, June 7 at Laurelwood Park in Batavia! Learn more about SPSA: https://www.spsamerica.org/\n\n\n\nCome out and run along the Fox River and join us for our Run For LIFE! 5K Run/Walk!  All proceeds from the race will benefit Suicide Prevention Services in Batavia.\n\n	Race Day Registration and Packet Pick Up Opens at 8:00 AM at Laurelwood Park on North River Street\, Batavia.\n	5K Race Starts at 9:00 AM\n	Register early! Adult Registration fees increase 5/5/25. Must be registered by 5/17/25 to be guaranteed your race shirt/size. Starting May 17 shirts will no longer be available.\n\nThe following Age Group Awards will be given following the completion of the 5K:\n\n\n	One Overall Male\n	One Overall Female\n	Male/Female Age groups as follows: 18-25\, 26- 35\, 36 - 45\, 46 - 55\, 56 - 65\, 66 -75\, 75 and up\n	Participants 17 & under will not be eligible for age group awards but will receive finisher medals
X-ALT-DESC;FMTTYPE=text/html:Suicide Prevention Services of Batavia Run For LIFE! 5K Run/Walk Fundraiser takes place on Saturday\, June 7 at Laurelwood Park in Batavia!&nbsp\;Learn more about SPSA: <a href="https://www.spsamerica.org/" target="_blank">https://www.spsamerica.org/</a><br />\n<br />\nCome out and run along the Fox River and join us for our Run For LIFE! 5K Run/Walk!&nbsp\; All proceeds from the race will benefit Suicide Prevention Services in Batavia.\n<ul>\n	<li>Race Day Registration and Packet Pick Up Opens at 8:00 AM at Laurelwood Park on North River Street\, Batavia.</li>\n	<li>5K Race Starts at 9:00 AM</li>\n	<li>Register early! Adult Registration fees increase 5/5/25. Must be registered by 5/17/25 to be guaranteed your race shirt/size.&nbsp\;Starting May 17 shirts will no longer be available.</li>\n</ul>\nThe following Age Group Awards will be given following the completion of the 5K:\n\n<ul>\n	<li>One Overall Male</li>\n	<li>One Overall Female</li>\n	<li>Male/Female Age groups as follows: 18-25\, 26- 35\, 36 - 45\, 46 - 55\, 56 - 65\, 66 -75\, 75 and up</li>\n	<li>Participants 17 &amp\; under will not be eligible for age group awards but will receive finisher medals</li>\n</ul>\n
LOCATION:LAURELWOOD PARK 800 N. RIVER STREET BATAVIA\, IL
UID:e.1902.29410
SEQUENCE:3
DTSTAMP:20260422T082718Z
URL:http://business.bataviachamber.org/events/details/run-for-life-suicide-prevention-services-29410
END:VEVENT

END:VCALENDAR
