BEGIN:VCALENDAR
VERSION:2.0
PRODID:-//ChamberMaster//Event Calendar 2.0//EN
METHOD:PUBLISH
X-PUBLISHED-TTL:P3D
REFRESH-INTERVAL:P3D
CALSCALE:GREGORIAN
BEGIN:VEVENT
DTSTART:20250201T010000Z
DTEND:20250202T050000Z
X-MICROSOFT-CDO-ALLDAYEVENT:FALSE
SUMMARY:Robert Kelly Stand Up Comedy
DESCRIPTION:Join Robert Kelly\, the brutally honest and hilariously relatable comedian\, live at The Comedy Vault Jan 31-Feb 1! Known for his comedy special Kill Box\, SiriusXM's The Bonfire\, and roles in Louie and Sex & Drugs & Rock & Roll\, Robert brings his unique blend of humor and vulnerability to the stage. Don't miss it!
X-ALT-DESC;FMTTYPE=text/html:Join Robert Kelly\, the brutally honest and hilariously relatable comedian\, live at The Comedy Vault Jan 31-Feb 1! Known for his comedy special <em>Kill Box</em>\, SiriusXM&rsquo\;s <em>The Bonfire</em>\, and roles in <em>Louie</em> and <em>Sex &amp\; Drugs &amp\; Rock &amp\; Roll</em>\, Robert brings his unique blend of humor and vulnerability to the stage. Don&rsquo\;t miss it!
LOCATION:The Comedy Vault 18 E Wilson St Batavia IL 60510
UID:e.1902.26568
SEQUENCE:3
DTSTAMP:20260422T150311Z
URL:http://business.bataviachamber.org/events/details/robert-kelly-standup-26568
END:VEVENT

END:VCALENDAR
