BEGIN:VCALENDAR
VERSION:2.0
PRODID:-//ChamberMaster//Event Calendar 2.0//EN
METHOD:PUBLISH
X-PUBLISHED-TTL:P3D
REFRESH-INTERVAL:P3D
CALSCALE:GREGORIAN
BEGIN:VEVENT
DTSTART:20080906T210000Z
DTEND:20080907T010000Z
X-MICROSOFT-CDO-ALLDAYEVENT:FALSE
SUMMARY:Ribbon Cutting - Prairie Gymnastics Club
DESCRIPTION:Kevin Chope and Suzie Kinsman invite you to join them\, their staff and friends as they officially open the Prairie Gymnastics Club at 1241 N. Raddant Road in Batavia. Mayor Jeffery Schielke will cut a ribbon at 5:00 p.m.  Come and see what all the excitement is about!
X-ALT-DESC;FMTTYPE=text/html:Kevin Chope and Suzie Kinsman invite you to join them\,&nbsp\;their staff and friends as&nbsp\;they officially open the Prairie Gymnastics Club at 1241 N. Raddant Road in Batavia. Mayor Jeffery Schielke will cut a ribbon at 5:00 p.m.&nbsp\; Come and see what all the excitement is about!
LOCATION:Prairie Gymnastics Club
UID:e.1902.1722
SEQUENCE:3
DTSTAMP:20260422T100228Z
URL:http://business.bataviachamber.org/events/details/ribbon-cutting-prairie-gymnastics-club-09-06-2008-1722
END:VEVENT

END:VCALENDAR
