BEGIN:VCALENDAR
VERSION:2.0
PRODID:-//ChamberMaster//Event Calendar 2.0//EN
METHOD:PUBLISH
X-PUBLISHED-TTL:P3D
REFRESH-INTERVAL:P3D
CALSCALE:GREGORIAN
BEGIN:VEVENT
DTSTART:20170517T213000Z
DTEND:20170517T220000Z
X-MICROSOFT-CDO-ALLDAYEVENT:FALSE
SUMMARY:Ribbon Cutting Ceremony: Wilson Street Tavern
DESCRIPTION:Please join the Batavia Chamber of Commerce as we celebrate Wilson Street Tavern's 5 Year Anniversary Ribbon Cutting Ceremony! \n\n\n\nPlease join us immediately following the ceremony for the Batavia Chamber's monthly Net-Working It!
X-ALT-DESC;FMTTYPE=text/html:<span style="line-height: 20.8px\;">Please join the Batavia Chamber of Commerce as we celebrate Wilson Street Tavern&#39\;s&nbsp\;5 Year Anniversary Ribbon Cutting Ceremony!&nbsp\;<br />\n<br />\nPlease join us immediately following the ceremony for the Batavia Chamber&#39\;s monthly Net-Working It!</span>
LOCATION:105 E. Wilson Street\, Batavia
UID:e.1902.6642
SEQUENCE:3
DTSTAMP:20260422T044333Z
URL:http://business.bataviachamber.org/events/details/ribbon-cutting-ceremony-wilson-street-tavern-6642
END:VEVENT

END:VCALENDAR
