BEGIN:VCALENDAR
VERSION:2.0
PRODID:-//ChamberMaster//Event Calendar 2.0//EN
METHOD:PUBLISH
X-PUBLISHED-TTL:P3D
REFRESH-INTERVAL:P3D
CALSCALE:GREGORIAN
BEGIN:VEVENT
DTSTART:20181004T220000Z
DTEND:20181004T230000Z
X-MICROSOFT-CDO-ALLDAYEVENT:FALSE
SUMMARY:Ribbon Cutting Ceremony: Wild Things Pet Services
DESCRIPTION:Please plan to join us for a ribbon cutting ceremony for Chamber Member\, Wild Things Pet Services! All Pets are Welcome!
X-ALT-DESC;FMTTYPE=text/html:Please plan to join us for a ribbon cutting ceremony for Chamber Member\, Wild Things Pet Services! All Pets are Welcome!<br />\n&nbsp\;
LOCATION:Hosted at the Batavia Chamber of Commerce 106 W. Wilson Street\, Batavia
UID:e.1902.9193
SEQUENCE:3
DTSTAMP:20260423T094012Z
URL:http://business.bataviachamber.org/events/details/ribbon-cutting-ceremony-wild-things-pet-services-9193
END:VEVENT

END:VCALENDAR
