BEGIN:VCALENDAR
VERSION:2.0
PRODID:-//ChamberMaster//Event Calendar 2.0//EN
METHOD:PUBLISH
X-PUBLISHED-TTL:P3D
REFRESH-INTERVAL:P3D
CALSCALE:GREGORIAN
BEGIN:VEVENT
DTSTART:20170908T224500Z
DTEND:20170908T233000Z
X-MICROSOFT-CDO-ALLDAYEVENT:FALSE
SUMMARY:Ribbon Cutting Ceremony: Water Street Art Studios Ribbon Cutting for Wheelchair Lift
DESCRIPTION:Please join the Batavia Chamber of Commerce as we celebrate the 8th year anniversary and the new handicap accessibility wheelchair lift with a Ribbon Cutting Ceremony for Water Street Studios!
X-ALT-DESC;FMTTYPE=text/html:<span style="line-height: 20.8px\;">Please join the Batavia Chamber of Commerce as we celebrate the 8th year anniversary and the new handicap accessibility wheelchair lift&nbsp\;with a Ribbon Cutting Ceremony for Water Street Studios!</span>
LOCATION:160 S. Water Street Batavia
UID:e.1902.6694
SEQUENCE:3
DTSTAMP:20260422T114522Z
URL:http://business.bataviachamber.org/events/details/ribbon-cutting-ceremony-water-street-art-studios-ribbon-cutting-for-wheelchair-lift-6694
END:VEVENT

END:VCALENDAR
