BEGIN:VCALENDAR
VERSION:2.0
PRODID:-//ChamberMaster//Event Calendar 2.0//EN
METHOD:PUBLISH
X-PUBLISHED-TTL:P3D
REFRESH-INTERVAL:P3D
CALSCALE:GREGORIAN
BEGIN:VEVENT
DTSTART:20170216T200000Z
DTEND:20170216T210000Z
X-MICROSOFT-CDO-ALLDAYEVENT:FALSE
SUMMARY:Ribbon Cutting Ceremony: The Salt Escape
DESCRIPTION:Please join the Batavia Chamber of Commerce as we celebrate The Salt Escape's Ribbon Cutting Ceremony!
X-ALT-DESC;FMTTYPE=text/html:<span style="line-height: 20.8px\;">Please join the Batavia Chamber of Commerce as we celebrate&nbsp\;The Salt Escape&#39\;s Ribbon Cutting Ceremony!</span>
LOCATION:The Salt Escape 9 North River Street\, Batavia
UID:e.1902.6550
SEQUENCE:3
DTSTAMP:20260421T212129Z
URL:http://business.bataviachamber.org/events/details/ribbon-cutting-ceremony-the-salt-escape-6550
END:VEVENT

END:VCALENDAR
