BEGIN:VCALENDAR
VERSION:2.0
PRODID:-//ChamberMaster//Event Calendar 2.0//EN
METHOD:PUBLISH
X-PUBLISHED-TTL:P3D
REFRESH-INTERVAL:P3D
CALSCALE:GREGORIAN
BEGIN:VEVENT
DTSTART:20171204T210000Z
DTEND:20171204T213000Z
X-MICROSOFT-CDO-ALLDAYEVENT:FALSE
SUMMARY:Ribbon Cutting Ceremony: The Molitor Group
DESCRIPTION:Please join the Batavia Chamber of Commerce as we celebrate the Ribbon Cutting Ceremony for The Molitor Group!
X-ALT-DESC;FMTTYPE=text/html:<span style="line-height: 20.8px\;">Please join the Batavia Chamber of Commerce as we celebrate the&nbsp\;Ribbon Cutting Ceremony for The Molitor&nbsp\;Group!</span>
LOCATION:Hosted at the Batavia Chamber of Commerce 106 W. Wilson Street\, Batavia
UID:e.1902.7558
SEQUENCE:3
DTSTAMP:20260422T160333Z
URL:http://business.bataviachamber.org/events/details/ribbon-cutting-ceremony-the-molitor-group-7558
END:VEVENT

END:VCALENDAR
