BEGIN:VCALENDAR
VERSION:2.0
PRODID:-//ChamberMaster//Event Calendar 2.0//EN
METHOD:PUBLISH
X-PUBLISHED-TTL:P3D
REFRESH-INTERVAL:P3D
CALSCALE:GREGORIAN
BEGIN:VEVENT
DTSTART:20171208T220000Z
DTEND:20171208T230000Z
X-MICROSOFT-CDO-ALLDAYEVENT:FALSE
SUMMARY:Ribbon Cutting Ceremony: The Albright Theatre
DESCRIPTION:Please join the Batavia Chamber of Commerce as we celebrate the Ribbon Cutting Ceremony for The Albright Theatre!
X-ALT-DESC;FMTTYPE=text/html:<span style="line-height: 20.8px\;">Please join the Batavia Chamber of Commerce as we celebrate the&nbsp\;Ribbon Cutting Ceremony for The Albright Theatre!&nbsp\;</span>
LOCATION:The Albright Theatre 100 N. Island Avenue 3rd Floor Batavia
UID:e.1902.7000
SEQUENCE:3
DTSTAMP:20260422T160654Z
URL:http://business.bataviachamber.org/events/details/ribbon-cutting-ceremony-the-albright-theatre-7000
END:VEVENT

END:VCALENDAR
