BEGIN:VCALENDAR
VERSION:2.0
PRODID:-//ChamberMaster//Event Calendar 2.0//EN
METHOD:PUBLISH
X-PUBLISHED-TTL:P3D
REFRESH-INTERVAL:P3D
CALSCALE:GREGORIAN
BEGIN:VEVENT
DTSTART:20170721T123000Z
DTEND:20170721T133000Z
X-MICROSOFT-CDO-ALLDAYEVENT:FALSE
SUMMARY:Ribbon Cutting Ceremony: Talk of the Town Toastmasters
DESCRIPTION:Please join the Batavia Chamber of Commerce as we celebrate the Ribbon Cutting Ceremony for Talk of the Town Toastmasters!
X-ALT-DESC;FMTTYPE=text/html:<span style="line-height: 20.8px\;">Please join the Batavia Chamber of Commerce as we celebrate the&nbsp\;Ribbon Cutting Ceremony for Talk of the Town Toastmasters!</span>
LOCATION:First Floor Conference Room at The Holmstad 700 W. Fabyan Parkway Batavia
UID:e.1902.6692
SEQUENCE:3
DTSTAMP:20260422T063559Z
URL:http://business.bataviachamber.org/events/details/ribbon-cutting-ceremony-talk-of-the-town-toastmasters-6692
END:VEVENT

END:VCALENDAR
