BEGIN:VCALENDAR
VERSION:2.0
PRODID:-//ChamberMaster//Event Calendar 2.0//EN
METHOD:PUBLISH
X-PUBLISHED-TTL:P3D
REFRESH-INTERVAL:P3D
CALSCALE:GREGORIAN
BEGIN:VEVENT
DTSTART:20170905T160000Z
DTEND:20170905T170000Z
X-MICROSOFT-CDO-ALLDAYEVENT:FALSE
SUMMARY:Ribbon Cutting Ceremony: STC Capital Bank Grand Opening
DESCRIPTION:Please join the Batavia Chamber of Commerce as we celebrate the Ribbon Cutting Ceremony for STC Capital Bank!
X-ALT-DESC;FMTTYPE=text/html:<span style="line-height: 20.8px\;">Please join the Batavia Chamber of Commerce as we celebrate the&nbsp\;Ribbon Cutting Ceremony for STC Capital Bank!</span>
LOCATION:STC Capital Bank 9 North Third Street Geneva
UID:e.1902.6918
SEQUENCE:3
DTSTAMP:20260422T100311Z
URL:http://business.bataviachamber.org/events/details/ribbon-cutting-ceremony-stc-capital-bank-grand-opening-6918
END:VEVENT

END:VCALENDAR
