BEGIN:VCALENDAR
VERSION:2.0
PRODID:-//ChamberMaster//Event Calendar 2.0//EN
METHOD:PUBLISH
X-PUBLISHED-TTL:P3D
REFRESH-INTERVAL:P3D
CALSCALE:GREGORIAN
BEGIN:VEVENT
DTSTART:20170210T220000Z
DTEND:20170210T230000Z
X-MICROSOFT-CDO-ALLDAYEVENT:FALSE
SUMMARY:Ribbon Cutting Ceremony: Spirit Rising Coaching
DESCRIPTION:Please join the Batavia Chamber of Commerce as we celebrate Spirit Rising Coaching's Ribbon Cutting Ceremony!
X-ALT-DESC;FMTTYPE=text/html:<span style="line-height: 20.8px\;">Please join the Batavia Chamber of Commerce as we celebrate&nbsp\;Spirit Rising Coaching&#39\;s Ribbon Cutting Ceremony!</span>
LOCATION:Hosted at the Batavia Chamber of Commerce Office 106 W. Wilson Street\, Batavia
UID:e.1902.6540
SEQUENCE:3
DTSTAMP:20260421T212028Z
URL:http://business.bataviachamber.org/events/details/ribbon-cutting-ceremony-spirit-rising-coaching-6540
END:VEVENT

END:VCALENDAR
