BEGIN:VCALENDAR
VERSION:2.0
PRODID:-//ChamberMaster//Event Calendar 2.0//EN
METHOD:PUBLISH
X-PUBLISHED-TTL:P3D
REFRESH-INTERVAL:P3D
CALSCALE:GREGORIAN
BEGIN:VEVENT
DTSTART:20171215T220000Z
DTEND:20171215T230000Z
X-MICROSOFT-CDO-ALLDAYEVENT:FALSE
SUMMARY:Ribbon Cutting Ceremony: Spillane & Sons Blaine Street School Renovation
DESCRIPTION:Please join the Batavia Chamber of Commerce as we celebrate the Ribbon Cutting Ceremony for Spillane & Sons' at their recently remodeled residential duplex\, formerly the Blaine Street School. Donations being accepted for CHIP IN at the Ribbon Cutting Ceremony.
X-ALT-DESC;FMTTYPE=text/html:<span style="line-height: 20.8px\;">Please join the Batavia Chamber of Commerce as we celebrate the&nbsp\;Ribbon Cutting Ceremony for Spillane &amp\; Sons&#39\; at their recently remodeled residential duplex\, formerly the Blaine Street School. Donations being accepted for CHIP IN at the Ribbon Cutting Ceremony.&nbsp\;</span>
LOCATION:Former Blaine Street School 607 S. Jefferson Street Batavia
UID:e.1902.7574
SEQUENCE:3
DTSTAMP:20260422T162933Z
URL:http://business.bataviachamber.org/events/details/ribbon-cutting-ceremony-spillane-sons-blaine-street-school-renovation-7574
END:VEVENT

END:VCALENDAR
