BEGIN:VCALENDAR
VERSION:2.0
PRODID:-//ChamberMaster//Event Calendar 2.0//EN
METHOD:PUBLISH
X-PUBLISHED-TTL:P3D
REFRESH-INTERVAL:P3D
CALSCALE:GREGORIAN
BEGIN:VEVENT
DTSTART:20180907T170000Z
DTEND:20180907T170000Z
X-MICROSOFT-CDO-ALLDAYEVENT:FALSE
SUMMARY:Ribbon Cutting Ceremony: Six + Cypress
DESCRIPTION:Please plan to join us for a Ribbon Cutting Ceremony for Six + Cypress in downtown Batavia!
X-ALT-DESC;FMTTYPE=text/html:Please plan to join us for a Ribbon Cutting Ceremony for Six + Cypress in downtown Batavia!
LOCATION:239 W. Wilson Batavia\, IL 60510
UID:e.1902.9192
SEQUENCE:3
DTSTAMP:20260423T081205Z
URL:http://business.bataviachamber.org/events/details/ribbon-cutting-ceremony-six-cypress-9192
END:VEVENT

END:VCALENDAR
