BEGIN:VCALENDAR
VERSION:2.0
PRODID:-//ChamberMaster//Event Calendar 2.0//EN
METHOD:PUBLISH
X-PUBLISHED-TTL:P3D
REFRESH-INTERVAL:P3D
CALSCALE:GREGORIAN
BEGIN:VEVENT
DTSTART:20170501T180000Z
DTEND:20170501T193000Z
X-MICROSOFT-CDO-ALLDAYEVENT:FALSE
SUMMARY:Ribbon Cutting Ceremony: Reliable Auto
DESCRIPTION:Please join the Batavia Chamber of Commerce as we celebrate the Ribbon Cutting Ceremony for Reliable Auto Repair!
X-ALT-DESC;FMTTYPE=text/html:<span style="line-height: 20.8px\;">Please join the Batavia Chamber of Commerce as we celebrate the&nbsp\;Ribbon Cutting Ceremony for Reliable Auto Repair!</span>
LOCATION:1515 Paramount Parkway\, Batavia
UID:e.1902.6616
SEQUENCE:3
DTSTAMP:20260422T025606Z
URL:http://business.bataviachamber.org/events/details/ribbon-cutting-ceremony-reliable-auto-6616
END:VEVENT

END:VCALENDAR
