BEGIN:VCALENDAR
VERSION:2.0
PRODID:-//ChamberMaster//Event Calendar 2.0//EN
METHOD:PUBLISH
X-PUBLISHED-TTL:P3D
REFRESH-INTERVAL:P3D
CALSCALE:GREGORIAN
BEGIN:VEVENT
DTSTART:20170928T190000Z
DTEND:20170928T193000Z
X-MICROSOFT-CDO-ALLDAYEVENT:FALSE
SUMMARY:Ribbon Cutting Ceremony: Reel Pro Video
DESCRIPTION:Please join the Batavia Chamber of Commerce as we celebrate the 35th Anniversary of Reel Pro Video with a Ribbon Cutting Ceremony!
X-ALT-DESC;FMTTYPE=text/html:<span style="line-height: 20.8px\;">Please join the Batavia Chamber of Commerce as we celebrate the 35th Anniversary of Reel Pro Video with a Ribbon Cutting Ceremony!</span>
LOCATION:Reel Pro Video 2 W. Wilson Street Batavia
UID:e.1902.6970
SEQUENCE:3
DTSTAMP:20260422T095934Z
URL:http://business.bataviachamber.org/events/details/ribbon-cutting-ceremony-reel-pro-video-6970
END:VEVENT

END:VCALENDAR
