BEGIN:VCALENDAR
VERSION:2.0
PRODID:-//ChamberMaster//Event Calendar 2.0//EN
METHOD:PUBLISH
X-PUBLISHED-TTL:P3D
REFRESH-INTERVAL:P3D
CALSCALE:GREGORIAN
BEGIN:VEVENT
DTSTART:20170518T210000Z
DTEND:20170518T213000Z
X-MICROSOFT-CDO-ALLDAYEVENT:FALSE
SUMMARY:Ribbon Cutting Ceremony: Orange Home Services\, Heating & Cooling
DESCRIPTION:Please join the Batavia Chamber of Commerce as we celebrate Orange Home Services\, Heating & Cooling's Ribbon Cutting Ceremony!
X-ALT-DESC;FMTTYPE=text/html:<span style="line-height: 20.8px\;">Please join the Batavia Chamber of Commerce as we celebrate Orange Home Services\, Heating &amp\; Cooling&#39\;s&nbsp\;Ribbon Cutting Ceremony!&nbsp\;</span><br />\n&nbsp\;
LOCATION:12 W. Wilson Street\, Batavia
UID:e.1902.6643
SEQUENCE:3
DTSTAMP:20260422T025607Z
URL:http://business.bataviachamber.org/events/details/ribbon-cutting-ceremony-orange-home-services-heating-cooling-6643
END:VEVENT

END:VCALENDAR
