BEGIN:VCALENDAR
VERSION:2.0
PRODID:-//ChamberMaster//Event Calendar 2.0//EN
METHOD:PUBLISH
X-PUBLISHED-TTL:P3D
REFRESH-INTERVAL:P3D
CALSCALE:GREGORIAN
BEGIN:VEVENT
DTSTART:20170613T150000Z
DTEND:20170613T153000Z
X-MICROSOFT-CDO-ALLDAYEVENT:FALSE
SUMMARY:Ribbon Cutting Ceremony: Mosquito Joe
DESCRIPTION:Please join the Batavia Chamber of Commerce as we celebrate Mosquito Joe's Ribbon Cutting Ceremony!
X-ALT-DESC;FMTTYPE=text/html:<span style="line-height: 20.8px\;">Please join the Batavia Chamber of Commerce as we celebrate&nbsp\;Mosquito Joe&#39\;s Ribbon Cutting Ceremony!</span>
LOCATION:1888 E. Fabyan Parkway\, Batavia
UID:e.1902.6669
SEQUENCE:3
DTSTAMP:20260422T044123Z
URL:http://business.bataviachamber.org/events/details/ribbon-cutting-ceremony-mosquito-joe-6669
END:VEVENT

END:VCALENDAR
