BEGIN:VCALENDAR
VERSION:2.0
PRODID:-//ChamberMaster//Event Calendar 2.0//EN
METHOD:PUBLISH
X-PUBLISHED-TTL:P3D
REFRESH-INTERVAL:P3D
CALSCALE:GREGORIAN
BEGIN:VEVENT
DTSTART:20180519T170000Z
DTEND:20180519T180000Z
X-MICROSOFT-CDO-ALLDAYEVENT:FALSE
SUMMARY:Ribbon Cutting Ceremony: Michele Weir Photography 1 Year Anniversary!
DESCRIPTION:Please join us for a Ribbon Cutting to Celebrate Batavia Chamber of Commerce Member Michele Weir Photography's 1 Year Anniversary!
X-ALT-DESC;FMTTYPE=text/html:<div style="text-align: center\;">Please join us for a Ribbon Cutting to Celebrate Batavia Chamber of Commerce Member Michele Weir Photography&#39\;s 1 Year Anniversary!</div>\n
LOCATION:Michele Weir Photography 123 Flinn Street Batavia IL 60510
UID:e.1902.7957
SEQUENCE:3
DTSTAMP:20260423T004143Z
URL:http://business.bataviachamber.org/events/details/ribbon-cutting-ceremony-michele-weir-photography-1-year-anniversary-7957
END:VEVENT

END:VCALENDAR
