BEGIN:VCALENDAR
VERSION:2.0
PRODID:-//ChamberMaster//Event Calendar 2.0//EN
METHOD:PUBLISH
X-PUBLISHED-TTL:P3D
REFRESH-INTERVAL:P3D
CALSCALE:GREGORIAN
BEGIN:VEVENT
DTSTART:20170620T160000Z
DTEND:20170620T163000Z
X-MICROSOFT-CDO-ALLDAYEVENT:FALSE
SUMMARY:Ribbon Cutting Ceremony: Market at Gaetano's
DESCRIPTION:Please join the Batavia Chamber of Commerce as we celebrate the Ribbon Cutting Ceremony for the Market at Gaetano's!
X-ALT-DESC;FMTTYPE=text/html:<span style="line-height: 20.8px\;">Please join the Batavia Chamber of Commerce as we celebrate the</span><span style="line-height: 20.8px\;">&nbsp\;Ribbon Cutting Ceremony for the Market at Gaetano&#39\;s!&nbsp\;</span><br />\n&nbsp\;
LOCATION:15 E. Wilson Street\, Lower Level\, Batavia
UID:e.1902.6674
SEQUENCE:3
DTSTAMP:20260422T044306Z
URL:http://business.bataviachamber.org/events/details/ribbon-cutting-ceremony-market-at-gaetano-s-6674
END:VEVENT

END:VCALENDAR
