BEGIN:VCALENDAR
VERSION:2.0
PRODID:-//ChamberMaster//Event Calendar 2.0//EN
METHOD:PUBLISH
X-PUBLISHED-TTL:P3D
REFRESH-INTERVAL:P3D
CALSCALE:GREGORIAN
BEGIN:VEVENT
DTSTART:20170530T150000Z
DTEND:20170530T153000Z
X-MICROSOFT-CDO-ALLDAYEVENT:FALSE
SUMMARY:Ribbon Cutting Ceremony: LDJ Cleaning Professionals
DESCRIPTION:Please join the Batavia Chamber of Commerce as we celebrate LDJ Cleaning Professional's Ribbon Cutting Ceremony!
X-ALT-DESC;FMTTYPE=text/html:<span style="line-height: 20.8px\;">Please join the Batavia Chamber of Commerce as we celebrate </span>LDJ Cleaning Professional&#39\;s <span style="line-height: 20.8px\;">Ribbon Cutting Ceremony!&nbsp\;</span><br />\n&nbsp\;
LOCATION:Hosted by the Batavia Chamber of Commerce 106 W. Wilson Street\, Batavia
UID:e.1902.6645
SEQUENCE:3
DTSTAMP:20260422T025707Z
URL:http://business.bataviachamber.org/events/details/ribbon-cutting-ceremony-ldj-cleaning-professionals-6645
END:VEVENT

END:VCALENDAR
