BEGIN:VCALENDAR
VERSION:2.0
PRODID:-//ChamberMaster//Event Calendar 2.0//EN
METHOD:PUBLISH
X-PUBLISHED-TTL:P3D
REFRESH-INTERVAL:P3D
CALSCALE:GREGORIAN
BEGIN:VEVENT
DTSTART:20170524T150000Z
DTEND:20170524T153000Z
X-MICROSOFT-CDO-ALLDAYEVENT:FALSE
SUMMARY:Ribbon Cutting Ceremony: It's Just Me\, Brooklyn-Book Series
DESCRIPTION:Please join the Batavia Chamber of Commerce as we celebrate It's Just Me\, Brooklyn-Book Series' Ribbon Cutting Ceremony!
X-ALT-DESC;FMTTYPE=text/html:<span style="line-height: 20.8px\;">Please join the Batavia Chamber of Commerce as we celebrate </span>It&#39\;s Just Me\, Brooklyn-Book Series&#39\;<span style="line-height: 20.8px\;">&nbsp\;Ribbon Cutting Ceremony!&nbsp\;</span><br />\n&nbsp\;
LOCATION:Hosted by the Batavia Chamber of Commerce 106 W. Wilson Street\, Batavia
UID:e.1902.6644
SEQUENCE:3
DTSTAMP:20260422T025749Z
URL:http://business.bataviachamber.org/events/details/ribbon-cutting-ceremony-it-s-just-me-brooklyn-book-series-6644
END:VEVENT

END:VCALENDAR
