BEGIN:VCALENDAR
VERSION:2.0
PRODID:-//ChamberMaster//Event Calendar 2.0//EN
METHOD:PUBLISH
X-PUBLISHED-TTL:P3D
REFRESH-INTERVAL:P3D
CALSCALE:GREGORIAN
BEGIN:VEVENT
DTSTART:20170328T150000Z
DTEND:20170328T160000Z
X-MICROSOFT-CDO-ALLDAYEVENT:FALSE
SUMMARY:Ribbon Cutting Ceremony: Enlightened and Empowered Preschool
DESCRIPTION:Please join the Batavia Chamber of Commerce as we celebrate Enlightened and Empowered Preschool's Ribbon Cutting Ceremony!
X-ALT-DESC;FMTTYPE=text/html:<span style="line-height: 20.8px\;">Please join the Batavia Chamber of Commerce as we celebrate </span><span style="color: rgb(0\, 0\, 0)\; font-family: arial\;">Enlightened and&nbsp\;</span><span style="color: rgb(0\, 0\, 0)\; font-family: arial\;">Empowered</span><span style="color: rgb(0\, 0\, 0)\; font-family: arial\;">&nbsp\;Preschool&#39\;s</span><span style="line-height: 20.8px\;">&nbsp\;Ribbon Cutting Ceremony!</span>
LOCATION:8 South Lincoln Street\, Batavia (located within Bethany Lutheran Church)
UID:e.1902.6579
SEQUENCE:3
DTSTAMP:20260421T232735Z
URL:http://business.bataviachamber.org/events/details/ribbon-cutting-ceremony-enlightened-and-empowered-preschool-6579
END:VEVENT

END:VCALENDAR
