BEGIN:VCALENDAR
VERSION:2.0
PRODID:-//ChamberMaster//Event Calendar 2.0//EN
METHOD:PUBLISH
X-PUBLISHED-TTL:P3D
REFRESH-INTERVAL:P3D
CALSCALE:GREGORIAN
BEGIN:VEVENT
DTSTART:20180830T213000Z
DTEND:20180830T220000Z
X-MICROSOFT-CDO-ALLDAYEVENT:FALSE
SUMMARY:Ribbon Cutting Ceremony - Crabby Boil Grand Opening
DESCRIPTION:Please join us in celebrating the Grand Opening of Crabby Boil!
X-ALT-DESC;FMTTYPE=text/html:<div style="text-align: center\;">Please join us in celebrating the Grand Opening&nbsp\;of Crabby Boil!&nbsp\;<span style="font-size: 13px\;">&nbsp\;</span></div>\n
LOCATION:Crabby Boil 220 Randall Road Batavia\, IL 60510
UID:e.1902.9199
SEQUENCE:3
DTSTAMP:20260423T063619Z
URL:http://business.bataviachamber.org/events/details/ribbon-cutting-ceremony-crabby-boil-grand-opening-9199
END:VEVENT

END:VCALENDAR
