BEGIN:VCALENDAR
VERSION:2.0
PRODID:-//ChamberMaster//Event Calendar 2.0//EN
METHOD:PUBLISH
X-PUBLISHED-TTL:P3D
REFRESH-INTERVAL:P3D
CALSCALE:GREGORIAN
BEGIN:VEVENT
DTSTART:20170609T150000Z
DTEND:20170609T160000Z
X-MICROSOFT-CDO-ALLDAYEVENT:FALSE
SUMMARY:Ribbon Cutting Ceremony: Confident Aire
DESCRIPTION:Please join the Batavia Chamber of Commerce as we celebrate Confident Aire's Ribbon Cutting Ceremony for their new second location!
X-ALT-DESC;FMTTYPE=text/html:<span style="line-height: 20.8px\;">Please join the Batavia Chamber of Commerce as we celebrate Confident Aire&#39\;s&nbsp\;Ribbon Cutting Ceremony for their new second location!&nbsp\;</span><br />\n&nbsp\;
LOCATION:504 E. Main Street
UID:e.1902.6668
SEQUENCE:3
DTSTAMP:20260422T044046Z
URL:http://business.bataviachamber.org/events/details/ribbon-cutting-ceremony-confident-aire-6668
END:VEVENT

END:VCALENDAR
