BEGIN:VCALENDAR
VERSION:2.0
PRODID:-//ChamberMaster//Event Calendar 2.0//EN
METHOD:PUBLISH
X-PUBLISHED-TTL:P3D
REFRESH-INTERVAL:P3D
CALSCALE:GREGORIAN
BEGIN:VEVENT
DTSTART:20170606T230000Z
DTEND:20170606T232000Z
X-MICROSOFT-CDO-ALLDAYEVENT:FALSE
SUMMARY:Ribbon Cutting Ceremony: City of Batavia Deerpath Bridge Dedication
DESCRIPTION:Please join the Batavia Chamber of Commerce as we celebrate the Deerpath Road Bridge Dedication with the City of Batavia! \nAlong with new road and bridge construction\, paths and sidewalks were added to enable pedestrian passage to increase safety in the area\, which sees foot traffic from the adjacent Holy Cross Church and residents from area neighborhoods.\n\nPlease park at the east end of the Tanglewood Hills Clubhouse parking lot (2701 Saupp Drive).
X-ALT-DESC;FMTTYPE=text/html:<span style="font-size:12px\;"><span style="font-family:arial\;"><span style="line-height: 20.8px\;">Please join the Batavia Chamber of Commerce as we celebrate the&nbsp\;</span>Deerpath&nbsp\;Road<span style="color: rgb(0\, 0\, 0)\;">&nbsp\;Bridge Dedication&nbsp\;</span><span style="line-height: 20.8px\;">with the City of Batavia!&nbsp\;</span></span></span>\n<p style="margin: 6px 0px\; font-family: Helvetica\, Arial\, sans-serif\; color: rgb(29\, 33\, 41)\; font-size: 14px\;"><span style="font-size:12px\;"><span style="font-family:arial\;">Along with new road and bridge construction\, paths and sidewalks were added to enable pedestrian passage to increase safety in the area\, which sees foot traffic from the adjacent Holy Cross Church and residents from area neighborhoods.</span></span></p>\n\n<p style="margin: 6px 0px\; font-family: Helvetica\, Arial\, sans-serif\; color: rgb(29\, 33\, 41)\; font-size: 14px\;"><span style="font-size:12px\;"><span style="font-family:arial\;">Please park at the east end of the Tanglewood Hills Clubhouse parking lot (2701 Saupp Drive).</span></span></p>\n<br />\n&nbsp\;
LOCATION:300 yards south of Main Street and Deerpath Road\, Batavia Please park at the east end of the Tanglewood Hills Clubhouse parking lot (2701 Saupp Drive).
UID:e.1902.6667
SEQUENCE:3
DTSTAMP:20260422T044301Z
URL:http://business.bataviachamber.org/events/details/ribbon-cutting-ceremony-city-of-batavia-deerpath-bridge-dedication-6667
END:VEVENT

END:VCALENDAR
