BEGIN:VCALENDAR
VERSION:2.0
PRODID:-//ChamberMaster//Event Calendar 2.0//EN
METHOD:PUBLISH
X-PUBLISHED-TTL:P3D
REFRESH-INTERVAL:P3D
CALSCALE:GREGORIAN
BEGIN:VEVENT
DTSTART:20170911T140000Z
DTEND:20170912T043000Z
X-MICROSOFT-CDO-ALLDAYEVENT:FALSE
SUMMARY:Ribbon Cutting Ceremony: Briana's Pancake House
DESCRIPTION:Please join the Batavia Chamber of Commerce as we celebrate the Ribbon Cutting Ceremony for Briana's Pancake House!
X-ALT-DESC;FMTTYPE=text/html:<span style="line-height: 20.8px\;">Please join the Batavia Chamber of Commerce as we celebrate the&nbsp\;Ribbon Cutting Ceremony for Briana&#39\;s Pancake House!</span>
LOCATION:Briana's Pancake House 10 N. Island Avenue Batavia
UID:e.1902.6927
SEQUENCE:3
DTSTAMP:20260422T100108Z
URL:http://business.bataviachamber.org/events/details/ribbon-cutting-ceremony-briana-s-pancake-house-6927
END:VEVENT

END:VCALENDAR
