BEGIN:VCALENDAR
VERSION:2.0
PRODID:-//ChamberMaster//Event Calendar 2.0//EN
METHOD:PUBLISH
X-PUBLISHED-TTL:P3D
REFRESH-INTERVAL:P3D
CALSCALE:GREGORIAN
BEGIN:VEVENT
DTSTART:20171017T190000Z
DTEND:20171017T193000Z
X-MICROSOFT-CDO-ALLDAYEVENT:FALSE
SUMMARY:Ribbon Cutting Ceremony: Batavia Parcel
DESCRIPTION:Please join the Batavia Chamber of Commerce as we celebrate the Ribbon Cutting Ceremony for Batavia Parcel!
X-ALT-DESC;FMTTYPE=text/html:<span style="line-height: 20.8px\;">Please join the Batavia Chamber of Commerce as we celebrate the&nbsp\;Ribbon Cutting Ceremony for Batavia Parcel!</span>
LOCATION:Batavia Parcel 1921 W. Wilson Street Suite A Batavia
UID:e.1902.6998
SEQUENCE:3
DTSTAMP:20260422T113812Z
URL:http://business.bataviachamber.org/events/details/ribbon-cutting-ceremony-batavia-parcel-6998
END:VEVENT

END:VCALENDAR
