BEGIN:VCALENDAR
VERSION:2.0
PRODID:-//ChamberMaster//Event Calendar 2.0//EN
METHOD:PUBLISH
X-PUBLISHED-TTL:P3D
REFRESH-INTERVAL:P3D
CALSCALE:GREGORIAN
BEGIN:VEVENT
DTSTART:20170621T220000Z
DTEND:20170621T223000Z
X-MICROSOFT-CDO-ALLDAYEVENT:FALSE
SUMMARY:Ribbon Cutting Ceremony: Batavia Depot Museum Expansion Kick-Off!
DESCRIPTION:Please join the Batavia Chamber of Commerce as we celebrate Batavia Depot Museum Expansion Project Kick-Off with a Ribbon Cutting Ceremony!
X-ALT-DESC;FMTTYPE=text/html:<span style="line-height: 20.8px\;">Please join the Batavia Chamber of Commerce as we celebrate </span>Batavia Depot Museum Expansion Project Kick-Off with a<span style="line-height: 20.8px\;">&nbsp\;Ribbon Cutting Ceremony!&nbsp\;</span><br />\n&nbsp\;
LOCATION:155 Houston Street\, Batavia
UID:e.1902.6671
SEQUENCE:3
DTSTAMP:20260422T044305Z
URL:http://business.bataviachamber.org/events/details/ribbon-cutting-ceremony-batavia-depot-museum-expansion-kick-off-6671
END:VEVENT

END:VCALENDAR
