BEGIN:VCALENDAR
VERSION:2.0
PRODID:-//ChamberMaster//Event Calendar 2.0//EN
METHOD:PUBLISH
X-PUBLISHED-TTL:P3D
REFRESH-INTERVAL:P3D
CALSCALE:GREGORIAN
BEGIN:VEVENT
DTSTART:20170307T143000Z
DTEND:20170307T150000Z
X-MICROSOFT-CDO-ALLDAYEVENT:FALSE
SUMMARY:Ribbon Cutting Ceremony: Andres Restaurant
DESCRIPTION:Please join the Batavia Chamber of Commerce as we celebrate the 10th Anniversary Ribbon Cutting Ceremony for Andres Restaurant!
X-ALT-DESC;FMTTYPE=text/html:<span style="line-height: 20.8px\;">Please join the Batavia Chamber of Commerce as we celebrate the 10th Anniversary Ribbon Cutting Ceremony for Andres Restaurant!</span>
LOCATION:5 Webster Street\, Batavia
UID:e.1902.6569
SEQUENCE:3
DTSTAMP:20260421T232735Z
URL:http://business.bataviachamber.org/events/details/ribbon-cutting-ceremony-andres-restaurant-6569
END:VEVENT

END:VCALENDAR
