BEGIN:VCALENDAR
VERSION:2.0
PRODID:-//ChamberMaster//Event Calendar 2.0//EN
METHOD:PUBLISH
X-PUBLISHED-TTL:P3D
REFRESH-INTERVAL:P3D
CALSCALE:GREGORIAN
BEGIN:VEVENT
DTSTART:20171019T220000Z
DTEND:20171020T000000Z
X-MICROSOFT-CDO-ALLDAYEVENT:FALSE
SUMMARY:Ribbon Cutting Ceremony and Open House: Northwestern Medicine Pediatric Outpatient Clinic at Delnor
DESCRIPTION:Please join the Batavia Chamber of Commerce as we celebrate the Ribbon Cutting Ceremony for Northwestern Medicine's Pediatric Outpatient Clinic\, Delnor Hospital.
X-ALT-DESC;FMTTYPE=text/html:<span style="line-height: 20.8px\;">Please join the Batavia Chamber of Commerce as we celebrate the&nbsp\;Ribbon Cutting Ceremony for Northwestern Medicine&#39\;s Pediatric Outpatient Clinic\, Delnor&nbsp\;Hospital.&nbsp\;</span>
LOCATION:302 Randall Road\, Suite LL10\, Geneva
UID:e.1902.6911
SEQUENCE:3
DTSTAMP:20260422T114609Z
URL:http://business.bataviachamber.org/events/details/ribbon-cutting-ceremony-and-open-house-northwestern-medicine-pediatric-outpatient-clinic-at-delnor-6911
END:VEVENT

END:VCALENDAR
