BEGIN:VCALENDAR
VERSION:2.0
PRODID:-//ChamberMaster//Event Calendar 2.0//EN
METHOD:PUBLISH
X-PUBLISHED-TTL:P3D
REFRESH-INTERVAL:P3D
CALSCALE:GREGORIAN
BEGIN:VEVENT
DTSTART:20180919T170000Z
DTEND:20180919T180000Z
X-MICROSOFT-CDO-ALLDAYEVENT:FALSE
SUMMARY:Ribbon Cutting Ceremony - Alpha P.O.S. Services
DESCRIPTION:Please plan to join us at the Chamber Offices to celebrate our new Chamber member\, Alpha P.O.S. Services!\n\nRSVP requested. Please email Truman Meecham\, Alpha P.O.S. Services\, if able to attend: truman.meecham@alphapos.net
X-ALT-DESC;FMTTYPE=text/html:Please plan to join us at the Chamber Offices to celebrate our new Chamber member\, Alpha P.O.S. Services!<br />\nRSVP requested. Please email Truman Meecham\, Alpha P.O.S. Services\, if able to attend:&nbsp\;truman.meecham@alphapos.net
LOCATION:Batavia Chamber of Commerce 106 W. Wilson Street Batavia IL 60510
UID:e.1902.9190
SEQUENCE:3
DTSTAMP:20260423T081427Z
URL:http://business.bataviachamber.org/events/details/ribbon-cutting-ceremony-alpha-p-o-s-services-9190
END:VEVENT

END:VCALENDAR
