BEGIN:VCALENDAR
VERSION:2.0
PRODID:-//ChamberMaster//Event Calendar 2.0//EN
METHOD:PUBLISH
X-PUBLISHED-TTL:P3D
REFRESH-INTERVAL:P3D
CALSCALE:GREGORIAN
BEGIN:VEVENT
DTSTART:20171002T210000Z
DTEND:20171002T213000Z
X-MICROSOFT-CDO-ALLDAYEVENT:FALSE
SUMMARY:Ribbon Cutting Ceremony: AAA Tree Service and Landscape\, Inc
DESCRIPTION:Please join the Batavia Chamber of Commerce as we celebrate the Ribbon Cutting Ceremony for AAA Tree Service and Landscape\, Inc!
X-ALT-DESC;FMTTYPE=text/html:<span style="line-height: 20.8px\;">Please join the Batavia Chamber of Commerce as we celebrate the</span><span style="line-height: 20.8px\;">&nbsp\;Ribbon Cutting Ceremony for AAA Tree Service and Landscape\, Inc!&nbsp\;</span><br />\n&nbsp\;
LOCATION:Hosted at the Batavia Chamber of Commerce 106 W. Wilson Street\, Batavia
UID:e.1902.6968
SEQUENCE:3
DTSTAMP:20260422T113857Z
URL:http://business.bataviachamber.org/events/details/ribbon-cutting-ceremony-aaa-tree-service-and-landscape-inc-6968
END:VEVENT

END:VCALENDAR
