BEGIN:VCALENDAR
VERSION:2.0
PRODID:-//ChamberMaster//Event Calendar 2.0//EN
METHOD:PUBLISH
X-PUBLISHED-TTL:P3D
REFRESH-INTERVAL:P3D
CALSCALE:GREGORIAN
BEGIN:VEVENT
DTSTART:20090312T163000Z
DTEND:20090312T183000Z
X-MICROSOFT-CDO-ALLDAYEVENT:FALSE
SUMMARY:REVISED - Improve Your Reading & Memory - Chamber Lunch
DESCRIPTION:Now...Improve your Reading & your Memory!This Chamber Lunch is now New & Improved!!!Originally Ken Budka\, of Freedom Personal Development was coming to talk about reading improvement.  We have been upgraded! Now\, Ken's instructor\, Tom Weber\, has decided to come and teach us about improving our reading and memory! Tom promises a wonderful 45 minutes of learing and fun! (Read his bio below and see if you are not interested in meeting this guy!!)In Memory Training\, Tom will give insights into ways to increase your memory skills a minimum of 300%. Remember names\, lists\, numbers\, presentations\, key client information\, foreign languages\, vocabulary\, equations\, school work\, information from books and meetings and much more. Reading Smart is a proven speed reading training for busy professionals who want to learn time saving strategies to read faster\, comprehend more\, concentrate better and retain more easily. At the lunch\, you will gain some insight as to how you can boost your reading speed without sacrificing comprehension. The Reading Smart presentation is for you if: \n - You have little time to read a lot \n - You daydream a lot when you read \n - You feel you're a slow reader \n - You are overwhelmed with all you have to read \n - You read a lot on-screen \n - You are returning to school \n - You haven't had any reading training since elementary school \n - You have always wanted to take a speed reading class! SIGN UP TODAY AT www.BataviaChamber.orgOur Presenter...Tom Weber has been figuring out how to sell since early childhood and sharing that knowledge with others whenever he could. While this didn't translate as a "skill" in the farm fields of Iowa where he grew up\, it did help with school fund-raisers\, and working with the Southwestern Company\, where Tom spent five college summers selling door-to-door and leading top organizations. Before he turned 30 he had racked up over 22\,000 sales presentations\, yet coaching and leading others have always been where his passions lie. His ability to connect with virtually anyone from any culture comes in handy whether he is leading a workshop or navigating the jungles of Africa.  He is currently based in Chicago\, travels across the Americas with Freedom Personal Development\, and wanders the globe with his wife Peggy.
X-ALT-DESC;FMTTYPE=text/html:<FONT face=Arial><FONT color=#0000ff><P align=center><FONT face="Times New Roman" color=#800000 size=4>Now...Improve your Reading &amp\; your Memory!</FONT></P><P align=left><FONT face="Times New Roman" color=#0000ff size=4>This Chamber Lunch is now <FONT color=#800000>New &amp\; Improved</FONT>!!!</FONT></P><P align=left><FONT face="Times New Roman" size=4>Originally Ken Budka\, of Freedom Personal Development was coming to talk about reading improvement.&nbsp\; We have been upgraded! Now\, Ken's instructor\, Tom Weber\, has decided to come and teach us about improving our reading and memory! Tom promises a wonderful 45 minutes of learing and fun! (Read his bio below and see if you are not interested in meeting this guy!!)</FONT></P><P align=left><FONT face="Times New Roman" color=#0000ff size=4>In <FONT color=#800000>Memory Training</FONT>\, Tom will give insights into ways to&nbsp\;increase your memory skills a minimum of 300%. Remember names\, lists\, numbers\, presentations\, key client information\, foreign languages\, vocabulary\, equations\, school work\, information from books and meetings and much more. </FONT></P><FONT face="Times New Roman" color=#0000ff size=4><P align=left><FONT face="Times New Roman" color=#0000ff size=4><FONT color=#800000>Reading Smart</FONT>&nbsp\;is&nbsp\;a proven speed reading training for busy professionals who want to learn time saving strategies to read faster\, comprehend more\, concentrate better and retain more easily. At the lunch\, you will gain some insight as to how you can&nbsp\;boost your reading speed without sacrificing comprehension. </FONT></P><P align=left>The Reading Smart presentation is for you if: <BR>&nbsp\;- You have little time to read a lot <BR>&nbsp\;- You daydream a lot when you read <BR>&nbsp\;- You feel you're a slow reader <BR>&nbsp\;- You are overwhelmed with all you have to read <BR>&nbsp\;- You read a lot on-screen <BR>&nbsp\;- You are returning to school <BR>&nbsp\;- You haven't had any reading training since elementary school <BR>&nbsp\;- You have always wanted to take a speed reading class! </P><P align=center><FONT color=#800000>SIGN UP TODAY AT <A href="http://www.BataviaChamber.org"><FONT color=#800000>www.BataviaChamber.o</FONT><FONT color=#800000>rg</FONT></A></FONT></P><P align=left></FONT><FONT face="Times New Roman" color=#0000ff size=4><SPAN style="FONT-SIZE: small"><FONT size=2><SPAN style="FONT-FAMILY: Arial\, Helvetica\, sans-serif">Our Presenter...</SPAN></FONT></SPAN></P><P align=left><SPAN style="FONT-SIZE: small"><FONT size=2><SPAN style="FONT-FAMILY: Arial\, Helvetica\, sans-serif">Tom Weber has been figuring out how to sell since early childhood and sharing that knowledge with others whenever he could. While this didn't translate as a "skill" in the farm fields of Iowa where he grew up\, it did help with school fund-raisers\, and working with the Southwestern Company\, where Tom spent five college summers selling door-to-door and leading top organizations. </SPAN></FONT></SPAN></P><P align=left><SPAN style="FONT-SIZE: small"><FONT size=2><SPAN style="FONT-FAMILY: Arial\, Helvetica\, sans-serif">Before he turned 30 he had racked up over 22\,000 sales presentations\, yet coaching and leading others have always been where his passions lie. His ability to connect with virtually anyone from any culture comes in handy whether he is leading a workshop or navigating the jungles of Africa.&nbsp\; </SPAN></FONT></SPAN></P><P align=left><SPAN style="FONT-SIZE: small"><FONT size=2><SPAN style="FONT-FAMILY: Arial\, Helvetica\, sans-serif">He is currently based in Chicago\, travels across the Americas with Freedom Personal Development\, and wanders the globe with his wife Peggy. <BR></P></SPAN></FONT></SPAN></FONT></FONT></FONT>
LOCATION:Tribella Bar & Grill
UID:e.1902.1528
SEQUENCE:3
DTSTAMP:20260421T232455Z
URL:http://business.bataviachamber.org/events/details/revised-improve-your-reading-memory-chamber-lunch-03-12-2009-1528
END:VEVENT

END:VCALENDAR
