BEGIN:VCALENDAR
VERSION:2.0
PRODID:-//ChamberMaster//Event Calendar 2.0//EN
METHOD:PUBLISH
X-PUBLISHED-TTL:P3D
REFRESH-INTERVAL:P3D
CALSCALE:GREGORIAN
BEGIN:VEVENT
DTSTART:20100817T130000Z
DTEND:20100817T143000Z
X-MICROSOFT-CDO-ALLDAYEVENT:FALSE
SUMMARY:Recreating Networking in Batavia
DESCRIPTION:HELP US CHART THE CHAMBER’S FUTURE\nJoin us August 17 to hear \nSteve Black of "Brian Tracy Programs"We’ll be at the Batavia Library from 8:00am to 9:30am\nWould you like to double your business without working twice as hard? We will be using Steve's fun and interactive 45-minute presentation to help you find and close more sales. Then we want to move into a conversation about the future of the Chamber's Networking Group.  We will be reenergizing and recreating the ways we meet and support each other in our efforts to thrive in 2010 and beyond. We want your input on how to make it happen.\nBring your ideas\, passion and creativity!
X-ALT-DESC;FMTTYPE=text/html:<DIV style="FONT-FAMILY: Arial" align=center><FONT color=#0000a0><STRONG>HELP US CHART THE CHAMBER’S FUTURE<BR></STRONG>Join us August 17 to hear <BR><STRONG><EM><FONT color=#ff0000 size=4>Steve Black of "Brian Tracy Programs"</FONT></EM></STRONG></FONT></DIV><DIV style="FONT-FAMILY: Arial" align=center><FONT color=#0000a0><FONT size=2>We’ll be at the Batavia Library from 8:00am to 9:30am</FONT></FONT></DIV><DIV style="FONT-FAMILY: Arial" align=center><BR><FONT color=#0000a0><STRONG><EM>Would you like to double your business without working twice as hard?</EM></STRONG></FONT></DIV><DIV style="FONT-FAMILY: Arial" align=left><FONT color=#0000a0></FONT>&nbsp\;</DIV><DIV style="FONT-FAMILY: Arial" align=left><FONT color=#0000a0>We will be using Steve's fun and interactive 45-minute presentation to help you find and close more sales. Then we want to&nbsp\;move into a conversation about the future of the Chamber's <EM><STRONG>Networking Group</STRONG></EM>. </FONT></DIV><DIV style="FONT-FAMILY: Arial" align=left><FONT color=#0000a0></FONT>&nbsp\;</DIV><DIV style="FONT-FAMILY: Arial" align=left><FONT color=#0000a0>We will be&nbsp\;reenergizing&nbsp\;and recreating the ways we meet&nbsp\;and support each other in our efforts to thrive in 2010 and beyond. We want your input on how to make it happen.</FONT></DIV><DIV style="FONT-FAMILY: Arial" align=center><BR><STRONG><FONT color=#ff0000>Bring your ideas\, passion and creativity!<BR></FONT></STRONG></DIV><DIV style="FONT-FAMILY: Arial" align=left><FONT color=#0000a0></FONT></DIV>
LOCATION:Batavia Public Library District
UID:e.1902.1656
SEQUENCE:3
DTSTAMP:20260420T165928Z
URL:http://business.bataviachamber.org/events/details/recreating-networking-in-batavia-08-17-2010-1656
END:VEVENT

END:VCALENDAR
