BEGIN:VCALENDAR
VERSION:2.0
PRODID:-//ChamberMaster//Event Calendar 2.0//EN
METHOD:PUBLISH
X-PUBLISHED-TTL:P3D
REFRESH-INTERVAL:P3D
CALSCALE:GREGORIAN
BEGIN:VEVENT
DTSTART:20250321T003000Z
DTEND:20250323T040000Z
X-MICROSOFT-CDO-ALLDAYEVENT:FALSE
SUMMARY:Rachel Feinstein Stand Up Comedy
DESCRIPTION:Don't miss Rachel Feinstein\, star of Netflix's Big Guy and Inside Amy Schumer\, live at The Comedy Vault March 20-22! Known for her sharp wit and hilarious impersonations\, Rachel brings stories from her life as a comedian\, mom\, and firefighter's wife to the stage. Get your tickets now!
X-ALT-DESC;FMTTYPE=text/html:Don&rsquo\;t miss Rachel Feinstein\, star of Netflix&rsquo\;s <em>Big Guy</em> and <em>Inside Amy Schumer</em>\, live at The Comedy Vault March 20-22! Known for her sharp wit and hilarious impersonations\, Rachel brings stories from her life as a comedian\, mom\, and firefighter&rsquo\;s wife to the stage. Get your tickets now!
LOCATION:The Comedy Vault
UID:e.1902.26577
SEQUENCE:3
DTSTAMP:20260422T131300Z
URL:http://business.bataviachamber.org/events/details/rachel-feinstein-standup-comedy-26577
END:VEVENT

END:VCALENDAR
