BEGIN:VCALENDAR
VERSION:2.0
PRODID:-//ChamberMaster//Event Calendar 2.0//EN
METHOD:PUBLISH
X-PUBLISHED-TTL:P3D
REFRESH-INTERVAL:P3D
CALSCALE:GREGORIAN
BEGIN:VEVENT
DTSTART:20100615T010000Z
DTEND:20100615T020000Z
X-MICROSOFT-CDO-ALLDAYEVENT:FALSE
SUMMARY:Purchase Diamond in the Rough Ticket CLICK HERE
DESCRIPTION:Register to win a $200 K.Hollis Gift Certificate and a chance to win a $3\,000 Diamond Bracelet in the Batavia Chamber of Commerce "Diamond in the Rough" Raffle. Here's how it works...Buy a $20 raffle ticket - ONLY 100 TICKETS WILL BE SOLD. The winner receives a $200 K.Hollis Gift Certificant and then gets to pick from 100 envelopes. 1 lucky envelope contains a ticket for the $3\,000 diamond bracelet!
X-ALT-DESC;FMTTYPE=text/html:<SPAN class=Apple-style-span style="WORD-SPACING: 0px\; FONT: medium 'Times New Roman'\; TEXT-TRANSFORM: none\; COLOR: rgb(0\,0\,0)\; TEXT-INDENT: 0px\; WHITE-SPACE: normal\; LETTER-SPACING: normal\; BORDER-COLLAPSE: separate\; orphans: 2\; widows: 2\; -webkit-border-horizontal-spacing: 0px\; -webkit-border-vertical-spacing: 0px\; -webkit-text-decorations-in-effect: none\; -webkit-text-size-adjust: auto\; -webkit-text-stroke-width: 0px"><SPAN class=Apple-style-span style="FONT-SIZE: 12px\; COLOR: rgb(241\,242\,247)\; LINE-HEIGHT: 20px\; FONT-FAMILY: Tahoma\, Arial\, Helvetica\, Geneva\, sans-serif\; LETTER-SPACING: 1px"><H3 style="PADDING-RIGHT: 0px\; PADDING-LEFT: 0px\; FONT-WEIGHT: normal\; FONT-SIZE: 14px\; PADDING-BOTTOM: 5px\; MARGIN: 0px\; COLOR: rgb(154\,160\,255)\; PADDING-TOP: 0px\; FONT-FAMILY: Tahoma\, Arial\, Helvetica\, Geneva\, sans-serif\; LETTER-SPACING: 1px\; TEXT-ALIGN: center" align=center><SPAN style="FONT-SIZE: 17px"><FONT face="Times New Roman" color=#0000ff size=5>Register to win a $200 K.Hollis Gift Certificate and a chance to win a $3\,000 Diamond Bracelet in the Batavia Chamber of Commerce "Diamond in the Rough" Raffle.</FONT></SPAN></H3><H3 style="PADDING-RIGHT: 0px\; PADDING-LEFT: 0px\; FONT-WEIGHT: normal\; FONT-SIZE: 14px\; PADDING-BOTTOM: 5px\; MARGIN: 0px\; COLOR: rgb(154\,160\,255)\; PADDING-TOP: 0px\; FONT-FAMILY: Tahoma\, Arial\, Helvetica\, Geneva\, sans-serif\; LETTER-SPACING: 1px\; TEXT-ALIGN: center"><SPAN style="FONT-SIZE: 17px"><FONT face="Times New Roman" color=#0000ff size=5></FONT></SPAN>&nbsp\;</H3><P style="MARGIN-TOP: 0em\; MARGIN-BOTTOM: 1em\; FONT-FAMILY: Arial\; TEXT-ALIGN: left" align=left><FONT face="Times New Roman" color=#0000ff size=5>Here's how it works...</FONT></P><P style="MARGIN-TOP: 0em\; MARGIN-BOTTOM: 1em\; FONT-FAMILY: Arial\; TEXT-ALIGN: left" align=left><FONT face="Times New Roman" color=#0000ff size=5>Buy a $20 raffle ticket - ONLY 100 TICKETS WILL BE SOLD. The winner receives a $200 K.Hollis Gift Certificant and then gets to pick from 100 envelopes. 1 lucky envelope contains a ticket for the $3\,000 diamond bracelet!</FONT></P></SPAN></SPAN>
LOCATION:Orchard Valley Golf Course & Restaurant
UID:e.1902.1376
SEQUENCE:3
DTSTAMP:20260420T203642Z
URL:http://business.bataviachamber.org/events/details/purchase-diamond-in-the-rough-ticket-click-here-06-14-2010-1376
END:VEVENT

END:VCALENDAR
