BEGIN:VCALENDAR
VERSION:2.0
PRODID:-//ChamberMaster//Event Calendar 2.0//EN
METHOD:PUBLISH
X-PUBLISHED-TTL:P3D
REFRESH-INTERVAL:P3D
CALSCALE:GREGORIAN
BEGIN:VEVENT
DTSTART:20250503T150000Z
DTEND:20250503T190000Z
X-MICROSOFT-CDO-ALLDAYEVENT:FALSE
SUMMARY:Pulled Pork Fundraiser at the Batavia Masonic Lodge 404
DESCRIPTION:Batavia Masonic Lodge 404 annual fundraiser.\n\n28 N Van Nortwick Ave. (Across from the new sub-division)\n\nPulled Pork Meal Fund Raiser\n\nFriday May 2 11 AM - 6:00 PM\n\nSaturday May 3 10:00 AM - 2:00 PM\n\nPulled Pork Sandwich\, Chips\, & Drink $10.00 per meal\n\nor\n\nPulled Pork Sandwich $7.00 each
X-ALT-DESC;FMTTYPE=text/html:<strong>Batavia Masonic Lodge 404 annual fundraiser.</strong><br />\n28 N Van Nortwick Ave. (Across from the new sub-division)<br />\nPulled Pork Meal Fund Raiser<br />\n<strong>Friday May 2 11 AM - 6:00 PM</strong><br />\n<strong>Saturday May 3 10:00 AM - 2:00 PM</strong><br />\n<strong>Pulled Pork Sandwich\, Chips\, &amp\; Drink $10.00</strong> per meal<br />\nor<br />\n<strong>Pulled Pork Sandwich $7.00 </strong>each
LOCATION:Batavia Masonic Temple (across the street from the new sub-division) 28 N Van Nortwick Ave. Batavia\, IL 6510 Sold & Served in our Dining Hall!
UID:e.1902.29509
SEQUENCE:3
DTSTAMP:20260422T113548Z
URL:http://business.bataviachamber.org/events/details/pulled-pork-fundraiser-at-the-batavia-masonic-lodge-404-29509
END:VEVENT

END:VCALENDAR
