BEGIN:VCALENDAR
VERSION:2.0
PRODID:-//ChamberMaster//Event Calendar 2.0//EN
METHOD:PUBLISH
X-PUBLISHED-TTL:P3D
REFRESH-INTERVAL:P3D
CALSCALE:GREGORIAN
BEGIN:VEVENT
DTSTART:20250502T160000Z
DTEND:20250502T230000Z
X-MICROSOFT-CDO-ALLDAYEVENT:FALSE
SUMMARY:Pulled Pork Fundraiser at Batavia Masonic Lodge 404
DESCRIPTION:Batavia Masonic Lodge 404 annual fundraiser.\n\n28 N Van Nortwick Ave. (Across from the new sub-division)\n\nPulled Pork Meal Fund Raiser\n\nFriday May 2 11 AM - 6:00 PM\n\nSaturday May 3 10:00 AM - 2:00 PM\n\nSold & served in our dining hall\, come in sit and relax while you eat.\n\nPulled Pork Sandwich\, Chips\, & Drink 10.00 per meal\n\nor\n\nPulled Pork Sandwich $7.00 each
X-ALT-DESC;FMTTYPE=text/html:<strong>Batavia Masonic Lodge 404 annual fundraiser.</strong><br />\n28 N Van Nortwick Ave. (Across from the new sub-division)<br />\n<strong>Pulled Pork Meal Fund Raiser<br />\nFriday May 2 11 AM - 6:00 PM<br />\nSaturday May 3 10:00 AM - 2:00 PM</strong><br />\nSold &amp\; served in our dining hall\, come in sit and relax while you eat.<br />\n<strong>Pulled Pork Sandwich\, Chips\, &amp\; Drink&nbsp\;10.00 per meal</strong><br />\nor<br />\n<strong>Pulled Pork Sandwich&nbsp\;$7.00 each</strong><br />\n<br />\n&nbsp\;
LOCATION:Batavia Masonic Temple (across the street from the new sub-division) 28 N Van Nortwick Ave. Batavia\, IL 6510 Sold & Served in our Dining Hall!
UID:e.1902.29507
SEQUENCE:3
DTSTAMP:20260422T113448Z
URL:http://business.bataviachamber.org/events/details/pulled-pork-fundraiser-at-batavia-masonic-lodge-404-29507
END:VEVENT

END:VCALENDAR
