BEGIN:VCALENDAR
VERSION:2.0
PRODID:-//ChamberMaster//Event Calendar 2.0//EN
METHOD:PUBLISH
X-PUBLISHED-TTL:P3D
REFRESH-INTERVAL:P3D
CALSCALE:GREGORIAN
BEGIN:VEVENT
DTSTART:20090323T220000Z
DTEND:20090324T000000Z
X-MICROSOFT-CDO-ALLDAYEVENT:FALSE
SUMMARY:Prospective Industrial Member Presentation
DESCRIPTION:You are cordially invited to join the Batavia Chamber of Commerce to hear two valuable presentations on the Federal Card Check act\, which eliminates secret ballots in union elections.  If you have employees don't miss this event!We will hear from a representative of the U.S. Chamber of Commerce on the bill's status\, and We will hear from a expert labor lawyer from Wessels Sherman talk about what you can and cannot do to minimize the impact of the legislation.We also hope you will talk with current members of the Chamber\, and if you are not currently\, see why they feel the Chamber is a great investment.Please plan to join us on March 23.
X-ALT-DESC;FMTTYPE=text/html:<P align=left><FONT face=Arial color=#0000ff size=4><FONT color=#000000 size=2>&nbsp\;</FONT><FONT color=#0000ff><FONT face=Arial><FONT size=4>You are cordially invited to join the Batavia Chamber of Commerce to hear two valuable presentations on the Federal Card Check act\, which eliminates secret ballots in union elections.&nbsp\; <FONT color=#800000>If you have employees&nbsp\;<EM>don't </EM>miss this event!</FONT></FONT></FONT></FONT></P><P align=left><FONT face=Arial color=#0000ff size=4>We will hear from a representative of the U.S. Chamber of Commerce on the bill's status\, and </FONT></P><P align=left><FONT face=Arial color=#0000ff size=4>We will&nbsp\;hear from a&nbsp\;expert labor lawyer from Wessels Sherman talk about what you can and cannot do to minimize the impact of the legislation.</FONT></P><P align=left><FONT face=Arial color=#0000ff size=4>We also hope you will talk with current members of the Chamber\, and if you are not currently\, see why they feel the Chamber is a great investment.</FONT></P><P align=left><FONT face=Arial color=#0000ff size=4>Please plan to join us on March 23.</FONT></P></FONT>
LOCATION:Chicago Expert Importers
UID:e.1902.1211
SEQUENCE:3
DTSTAMP:20260421T232555Z
URL:http://business.bataviachamber.org/events/details/prospective-industrial-member-presentation-03-23-2009-1211
END:VEVENT

END:VCALENDAR
