BEGIN:VCALENDAR
VERSION:2.0
PRODID:-//ChamberMaster//Event Calendar 2.0//EN
METHOD:PUBLISH
X-PUBLISHED-TTL:P3D
REFRESH-INTERVAL:P3D
CALSCALE:GREGORIAN
BEGIN:VEVENT
DTSTART:20091107T163000Z
DTEND:20091107T060000Z
X-MICROSOFT-CDO-ALLDAYEVENT:FALSE
SUMMARY:Play N Trade Video Games - Wii Bowling Tournament
DESCRIPTION:During the Grand Opening of Play N Trade Video Games\, we are having a Chamber Wii Bowling Tournament and owner Dan Moore is giving away a Wii to the winner! Play begins at 10:30\, but you must sign up by calling the store in advance.
X-ALT-DESC;FMTTYPE=text/html:<P align=left><FONT color=#0000ff size=4>During the Grand Opening of Play N Trade Video Games\, we are having a <U><STRONG>Chamber Wii Bowling Tournament</STRONG></U> and owner Dan Moore is giving away a Wii to the winner! Play begins at 10:30\, but you must sign up by calling the store in advance.</FONT></P>
LOCATION:Play N Trade
UID:e.1902.1733
SEQUENCE:3
DTSTAMP:20260421T093545Z
URL:http://business.bataviachamber.org/events/details/play-n-trade-video-games-wii-bowling-tournament-11-07-2009-1733
END:VEVENT

END:VCALENDAR
