BEGIN:VCALENDAR
VERSION:2.0
PRODID:-//ChamberMaster//Event Calendar 2.0//EN
METHOD:PUBLISH
X-PUBLISHED-TTL:P3D
REFRESH-INTERVAL:P3D
CALSCALE:GREGORIAN
BEGIN:VEVENT
DTSTART:20250623T000000Z
DTEND:20250623T020000Z
X-MICROSOFT-CDO-ALLDAYEVENT:FALSE
SUMMARY:Peyton Ruddy Stand Up Comedy
DESCRIPTION:Straight from viral chaos on Kill Tony and the legendary stage of The Comedy Mothership\, Peyton Ruddy returns to his Chicagoland roots for one night only at The Comedy Vault.\n\n\n\nStarting stand-up at just 17 in the suburbs of Chicago\, Peyton quickly rose through the ranks and became a city favorite. Now based in Austin\, TX\, he's bringing his absurdly funny\, off-the-rails style (affectionately referred to as "cutesy wootsy fat sh*t") back home   and he's not coming alone.\n\n\n\nPeyton's bringing a stacked lineup of killer comics\, including: Stephanie Robertson\, Chris Grieco\, Brando Harris\, and Luca Ferro.\n\n\n\nHe's opened for the likes of Tim Dillon\, Ron White\, Chris Distefano\, Ari Shaffir\, Craig Robinson\, Sam Tallent\, and more   all while somehow maintaining his rockin' hot bod.\n\n\n\nSunday\, June 22nd.  Doors at 6PM-Show at 7PM.
X-ALT-DESC;FMTTYPE=text/html:Straight from viral chaos on Kill Tony and the legendary stage of The Comedy Mothership\, Peyton Ruddy returns to his Chicagoland roots for one night only at The Comedy Vault.<br />\n<br />\nStarting stand-up at just 17 in the suburbs of Chicago\, Peyton quickly rose through the ranks and became a city favorite. Now based in Austin\, TX\, he&#39\;s bringing his absurdly funny\, off-the-rails style (affectionately referred to as &ldquo\;cutesy wootsy fat sh*t&rdquo\;) back home &mdash\; and he&rsquo\;s not coming alone.<br />\n<br />\nPeyton&rsquo\;s bringing a stacked lineup of killer comics\, including: Stephanie Robertson\, Chris Grieco\, Brando Harris\, and Luca Ferro.<br />\n<br />\nHe&rsquo\;s opened for the likes of Tim Dillon\, Ron White\, Chris Distefano\, Ari Shaffir\, Craig Robinson\, Sam Tallent\, and more &mdash\; all while somehow maintaining his rockin&rsquo\; hot bod.<br />\n<br />\nSunday\, June 22nd.&nbsp\; Doors at 6PM-Show at 7PM.
LOCATION:The Comedy Vault
UID:e.1902.29431
SEQUENCE:3
DTSTAMP:20260422T082620Z
URL:http://business.bataviachamber.org/events/details/peyton-ruddy-stand-up-comedy-29431
END:VEVENT

END:VCALENDAR
