BEGIN:VCALENDAR
VERSION:2.0
PRODID:-//ChamberMaster//Event Calendar 2.0//EN
METHOD:PUBLISH
X-PUBLISHED-TTL:P3D
REFRESH-INTERVAL:P3D
CALSCALE:GREGORIAN
BEGIN:VEVENT
DTSTART:20100625T123000Z
DTEND:20100625T140000Z
X-MICROSOFT-CDO-ALLDAYEVENT:FALSE
SUMMARY:Organizing Meeting for BWIB Women Business Professionals
DESCRIPTION:Would you find it valuable to have trusted advisors willing to counsel you\non the tough issues you face in your business life?\n\nWould you find it beneficial to help other women who get up every morning\nwith a desire to create a better future for themselves and their loved ones?\n\nWould you find is fulfilling to be more connected to the community as a\nbusiness professional?\n\nIf you would like your life to include more of these benefits\, Batavia Women\nIn Business has an offer for you.\n\nThis Friday\, (June 25) we are holding an organizing meeting for a new group\nof Women Business Professionals. What will it look like? How will it\noperate? What will you get out of it? The future is up to those who choose\nto join us on the 25th.\n\nWe plan this initial meeting from 7:30 a.m. to about 9:00 a.m. We know this\nis a difficult time for many\, but please try to join us for this initial\nmeeting. We will convene at 160 W. Wilson Street...the empty storefront just\nwest of Panera Bread (Remember the old WAMU Bank?)\n\nIf you are male\, and feel left out of this innovative new opportunity\,\nplease contact me. I'd be delighted to work with you to create a similar\nforum to support you.\n\nPlease join us on the 25th.
X-ALT-DESC;FMTTYPE=text/html:<DIV align=left><SPAN class=Apple-style-span style="WORD-SPACING: 0px\; FONT: medium 'Times New Roman'\; TEXT-TRANSFORM: none\; COLOR: rgb(0\,0\,0)\; TEXT-INDENT: 0px\; WHITE-SPACE: normal\; LETTER-SPACING: normal\; BORDER-COLLAPSE: separate\; orphans: 2\; widows: 2\; -webkit-border-horizontal-spacing: 0px\; -webkit-border-vertical-spacing: 0px\; -webkit-text-decorations-in-effect: none\; -webkit-text-size-adjust: auto\; -webkit-text-stroke-width: 0px"><SPAN class=Apple-style-span style="FONT-SIZE: 13px\; FONT-FAMILY: arial\, sans-serif\; BORDER-COLLAPSE: collapse">Would you find it valuable to have trusted advisors willing to counsel you<BR>on the tough issues you face in your business life?<BR><BR>Would you find it beneficial to help other women who get up every morning<BR>with a desire to create a better future for themselves and their loved ones?<BR><BR>Would you find is fulfilling to be more connected to the community as a<BR>business professional?<BR><BR>If you would like your life to include more of these benefits\, Batavia Women<BR>In Business has an offer for you.<BR><BR>This Friday\, (June 25) we are holding an organizing meeting for a new group<BR>of Women Business Professionals. What will it look like? How will it<BR>operate? What will you get out of it? The future is up to those who choose<BR>to join us on the 25th.<BR><BR>We plan this initial meeting from 7:30 a.m. to about 9:00 a.m. We know this<BR>is a difficult time for many\, but please try to join us for this initial<BR>meeting. We will convene at 160 W. Wilson Street...the empty storefront just<BR>west of Panera Bread (Remember the old WAMU Bank?)<BR><BR>If you are male\, and feel left out of this innovative new opportunity\,<BR>please contact me. I'd be delighted to work with you to create a similar<BR>forum to support you.<BR><BR>Please join us on the 25th.</SPAN></SPAN></DIV>
LOCATION:
UID:e.1902.1370
SEQUENCE:3
DTSTAMP:20260420T203723Z
URL:http://business.bataviachamber.org/events/details/organizing-meeting-for-bwib-women-business-professionals-06-25-2010-1370
END:VEVENT

END:VCALENDAR
