BEGIN:VCALENDAR
VERSION:2.0
PRODID:-//ChamberMaster//Event Calendar 2.0//EN
METHOD:PUBLISH
X-PUBLISHED-TTL:P3D
REFRESH-INTERVAL:P3D
CALSCALE:GREGORIAN
BEGIN:VEVENT
DTSTART:20090319T123000Z
DTEND:20090319T143000Z
X-MICROSOFT-CDO-ALLDAYEVENT:FALSE
SUMMARY:Organizational Learning & Knowledge: The Lost Frontier
DESCRIPTION:Organizations that do not learn\, change and evolve eventually die! Is yours learning or dying? How would you know? In this cutting edge workshop\, you will discover ways to keep your leadership team\, and your employees\, at their learning edge so you can thrive tomorrow\, next week and in the future.
X-ALT-DESC;FMTTYPE=text/html:<DIV style="FONT-FAMILY: Arial" align=left><FONT color=#0000ff size=4>Organizations that do not learn\, change and evolve eventually die! Is yours learning or dying? How would you know? In this cutting edge workshop\, you will discover ways to keep your leadership team\, and your employees\, at their learning edge so you can thrive tomorrow\, next week and in the future.</FONT></DIV>
LOCATION:Batavia City Hall
UID:e.1902.1803
SEQUENCE:3
DTSTAMP:20260421T232327Z
URL:http://business.bataviachamber.org/events/details/organizational-learning-knowledge-the-lost-frontier-03-19-2009-1803
END:VEVENT

END:VCALENDAR
