BEGIN:VCALENDAR
VERSION:2.0
PRODID:-//ChamberMaster//Event Calendar 2.0//EN
METHOD:PUBLISH
X-PUBLISHED-TTL:P3D
REFRESH-INTERVAL:P3D
CALSCALE:GREGORIAN
BEGIN:VEVENT
DTSTART:20100316T130000Z
DTEND:20100316T150000Z
X-MICROSOFT-CDO-ALLDAYEVENT:FALSE
SUMMARY:Office Depot ''Business Before Hours''
DESCRIPTION:As a Chamber member\, your newest member benefit is participation in the Office Depot national Chamber of Commerce Discount Program--at both their Batavia store and at www.officedepot.com. Join us at their store (the southeast corner of Fabyan Parkway & Randall Road) on your way to work on March 16 to learn more about how you can start saving money TODAY!In addition to learning about this new money-saving Chamber program...· Refreshments will be served!· A Hewlett Packard 6500 Wireless Printer will be raffled off. (A $200 Value)!· Opportunity for a free Keurig B140 for your business!· Free Office Goodies!
X-ALT-DESC;FMTTYPE=text/html:<P align=left><FONT face=Arial color=#0000ff size=4>As a Chamber member\, your newest member benefit is participation in the <FONT color=#800000>Office Depot national Chamber of Commerce Discount Program</FONT>--at both their Batavia store and at </FONT><A href="http://www.officedepot.com"><FONT face=Arial color=#0000ff size=4>www.officedepot.com</FONT></A><FONT face=Arial color=#0000ff size=4>. </FONT></P><P align=left><FONT face=Arial color=#0000ff size=4>Join us at their store (the southeast corner of Fabyan Parkway&nbsp\;&amp\; Randall Road) on your way to work on March 16 to learn more about how you can <EM><FONT color=#800000>start saving money TODAY</FONT></EM>!</FONT></P><P align=left><FONT face=Arial color=#0000ff size=4>In addition to&nbsp\;learning about&nbsp\;this new money-saving Chamber program...</FONT></P><P class=MsoBodyText3 style="MARGIN-LEFT: 18pt\; TEXT-INDENT: -18pt\; mso-pagination: none\; mso-level-number-format: bullet\; mso-level-text: ·\; mso-level-size: 10.0pt\; mso-level-font-family: Symbol" align=left><SPAN style="FONT-SIZE: 10pt\; COLOR: black\; DIRECTION: ltr\; FONT-FAMILY: Symbol\; unicode-bidi: embed\; language: X-NONE"><FONT face=Arial color=#0000ff size=4>·</FONT></SPAN><SPAN style="WIDTH: 13.5pt"><FONT face=Arial color=#0000ff size=4>&nbsp\;</FONT></SPAN><SPAN style="FONT-FAMILY: Arial\; language: EN\; mso-greek-font-family: 'Trebuchet MS'\; mso-cyrillic-font-family: 'Trebuchet MS'\; mso-ansi-language: EN"><FONT size=4><FONT color=#0000ff>Refreshments will be served!<?xml:namespace prefix = o ns = "urn:schemas-microsoft-com:office:office" /><o:p></o:p></FONT></FONT></SPAN></P><P class=MsoBodyText3 style="MARGIN-LEFT: 18pt\; TEXT-INDENT: -18pt\; mso-pagination: none\; mso-level-number-format: bullet\; mso-level-text: ·\; mso-level-size: 10.0pt\; mso-level-font-family: Symbol" align=left><SPAN style="FONT-SIZE: 10pt\; COLOR: black\; DIRECTION: ltr\; FONT-FAMILY: Symbol\; unicode-bidi: embed\; language: X-NONE"><FONT face=Arial color=#0000ff size=4>·</FONT></SPAN><SPAN style="WIDTH: 13.5pt"><FONT face=Arial color=#0000ff size=4>&nbsp\;</FONT></SPAN><FONT face=Arial><FONT size=4><FONT color=#0000ff><SPAN style="language: EN\; mso-ansi-language: EN">A Hewlett Packard 6500 Wireless Printer will be raffled off. (A $200 Value)!</SPAN></FONT></FONT></FONT></P><P class=MsoBodyText3 style="MARGIN-LEFT: 18pt\; TEXT-INDENT: -18pt\; mso-pagination: none\; mso-level-number-format: bullet\; mso-level-text: ·\; mso-level-size: 10.0pt\; mso-level-font-family: Symbol" align=left><SPAN style="FONT-SIZE: 10pt\; COLOR: black\; DIRECTION: ltr\; FONT-FAMILY: Symbol\; unicode-bidi: embed\; language: X-NONE"><FONT face=Arial color=#0000ff size=4>·</FONT></SPAN><SPAN style="WIDTH: 13.5pt"><FONT face=Arial color=#0000ff size=4>&nbsp\;</FONT></SPAN><SPAN style="FONT-FAMILY: Arial\; language: EN\; mso-greek-font-family: 'Trebuchet MS'\; mso-cyrillic-font-family: 'Trebuchet MS'\; mso-ansi-language: EN"><FONT size=4><FONT color=#0000ff>Opportunity for a free Keurig B140 for your business!<o:p></o:p></FONT></FONT></SPAN></P><P class=MsoBodyText3 style="MARGIN-LEFT: 18pt\; TEXT-INDENT: -18pt\; mso-pagination: none\; mso-level-number-format: bullet\; mso-level-text: ·\; mso-level-size: 10.0pt\; mso-level-font-family: Symbol" align=left><SPAN style="FONT-SIZE: 10pt\; COLOR: black\; DIRECTION: ltr\; FONT-FAMILY: Symbol\; unicode-bidi: embed\; language: X-NONE"><FONT face=Arial color=#0000ff size=4>·</FONT></SPAN><SPAN style="WIDTH: 13.5pt"><FONT face=Arial color=#0000ff size=4>&nbsp\;</FONT></SPAN><SPAN style="FONT-FAMILY: Arial\; language: EN\; mso-greek-font-family: 'Trebuchet MS'\; mso-cyrillic-font-family: 'Trebuchet MS'\; mso-ansi-language: EN"><FONT size=4><FONT color=#0000ff>Free Office Goodies!<o:p></o:p></FONT></FONT></SPAN></P><P class=MsoNormal style="MARGIN-BOTTOM: 14pt\; mso-pagination: none" align=left><P class=MsoBodyText3 style="MARGIN-LEFT: 18pt\; TEXT-INDENT: -18pt\; mso-pagination: none\; mso-level-number-format: bullet\; mso-level-text: ·\; mso-level-size: 10.0pt\; mso-level-font-family: Symbol" align=left><SPAN style="FONT-SIZE: 10pt\; COLOR: black\; DIRECTION: ltr\; FONT-FAMILY: Symbol\; unicode-bidi: embed\; language: X-NONE"><FONT face=Arial color=#0000ff size=4></FONT></SPAN><SPAN style="FONT-FAMILY: Arial\; language: EN\; mso-greek-font-family: 'Trebuchet MS'\; mso-cyrillic-font-family: 'Trebuchet MS'\; mso-ansi-language: EN"><o:p></o:p></SPAN><P align=left><FONT face=Arial color=#0000ff size=4></FONT></P><P align=left><SPAN style="language: EN"><FONT face=Arial><FONT size=4><FONT color=#0000ff>&nbsp\;<o:p></o:p></FONT></FONT></FONT></SPAN></P><P align=left></P><P align=left></P>
LOCATION:Office Depot
UID:e.1902.1224
SEQUENCE:3
DTSTAMP:20260421T032114Z
URL:http://business.bataviachamber.org/events/details/office-depot-business-before-hours-03-16-2010-1224
END:VEVENT

END:VCALENDAR
