BEGIN:VCALENDAR
VERSION:2.0
PRODID:-//ChamberMaster//Event Calendar 2.0//EN
METHOD:PUBLISH
X-PUBLISHED-TTL:P3D
REFRESH-INTERVAL:P3D
CALSCALE:GREGORIAN
BEGIN:VEVENT
DTSTART;VALUE=DATE:20250610
DTEND;VALUE=DATE:20250611
TRANSP:TRANSPARENT
X-MICROSOFT-CDO-ALLDAYEVENT:TRUE
SUMMARY:No Cook Tuesdays at Danny's Pizza - Fundraising for Anderson Humane
DESCRIPTION:Take a night off from cooking and support local shelter animals. No Cook Tuesdays at Danny's Pizza   Supporting Anderson Humane On the second Tuesday of every month\, Danny's Pizza will donate 10% of all proceeds to Anderson Humane as part of their No Cook Tuesdays initiative. Enjoy a great meal while making a meaningful impact in your community.\n\nWhen: Every second Tuesday of the month\n\nWhere: Danny's Pizza   231 Douglas Ave\, Elgin\, IL 60120\n\nWhat: 10% of all proceeds benefit Anderson Humane\n\n\n\nDine in or carry out every order helps.
X-ALT-DESC;FMTTYPE=text/html:<div style="margin-left:-15px\; margin-right:-15px">\n<div>\n<div style="margin-left:-15px\; margin-right:-15px">\n<div>\n<p>Take a night off from cooking and support local shelter animals. No Cook Tuesdays at Danny&rsquo\;s Pizza &ndash\; Supporting Anderson Humane On the second Tuesday of every month\, Danny&rsquo\;s Pizza will donate 10% of all proceeds to Anderson Humane as part of their No Cook Tuesdays initiative. Enjoy a great meal while making a meaningful impact in your community.<br />\nWhen: Every second Tuesday of the month<br />\nWhere: Danny&rsquo\;s Pizza &ndash\; 231 Douglas Ave\, Elgin\, IL 60120<br />\nWhat: 10% of all proceeds benefit Anderson Humane<br />\n<br />\nDine in or carry out&mdash\;every order helps.</p>\n</div>\n</div>\n</div>\n</div>\n\n<div style="margin-left:-15px\; margin-right:-15px">\n<div>\n<div>\n<div style="margin-left:-15px\; margin-right:-15px">\n<div>\n<p>&nbsp\;</p>\n</div>\n</div>\n</div>\n</div>\n</div>\n
LOCATION:
UID:e.1902.29585
SEQUENCE:3
DTSTAMP:20260422T083200Z
URL:http://business.bataviachamber.org/events/details/no-cook-tuesdays-at-danny-s-pizza-fundraising-for-anderson-humane-29585
END:VEVENT

END:VCALENDAR
