BEGIN:VCALENDAR
VERSION:2.0
PRODID:-//ChamberMaster//Event Calendar 2.0//EN
METHOD:PUBLISH
X-PUBLISHED-TTL:P3D
REFRESH-INTERVAL:P3D
CALSCALE:GREGORIAN
BEGIN:VEVENT
DTSTART:20250528T000000Z
DTEND:20250528T013000Z
X-MICROSOFT-CDO-ALLDAYEVENT:FALSE
SUMMARY:New Moon: Connecting to Your Purpose Meditation
DESCRIPTION:New Moon: Connecting to Your Purpose Meditation\n\nOnce a Month at 7pm\n\n\n\nConnecting to your purpose can be hard in the busy lives we live.\n\n\n\nThis meditation is a moment of pause in your busy life\, so that you can feel into what you want.When you connect to what you want\, you connect with your heart. And when you feel it in your heart\, you create.You must connect to the heart and feel it to have it manifest in your life!\n\n\n\nWe will have varying experiential exercises to help you connect to your breath\, allow you space to pause\, and listen to your inner wants\, desires\, intentions\, wishes\, goals\, and or dreams. You will connect these to your heart so that you can build the life you want. Activities that are used to help you connect are Yoga\, Sound Healing\, Meditation\, Art\, Journaling\, essential oils\, and group participation.\n\n\n\nWe use activities that quiet the mind\; and help you go into your heart. We at Torus believe that the heart is where our purpose is found.These activities may change from month to month.\n\n\n\nWe invite you to listen to your heart.The voice is always there\, we are just here to guide you.\n\n\n\nWe look forward to seeing you at our New Moon Meditation!\n\n\n\nHosted by Jamie Kruse and Torus Center for Integrative Healing.\n\n\n\nInvestment is $36\, please follow the link to sign up & register.\n\nYou will receive an email confirmation and ticket number to bring at the time of the event.\n\n\n\nDates:\n\nTuesday\, May 27th
X-ALT-DESC;FMTTYPE=text/html:<div><strong>New Moon: Connecting to Your Purpose Meditation</strong></div>\n\n<div>Once a Month at 7pm</div>\n\n<div><br />\nConnecting to your purpose can be hard in the busy lives we live.</div>\n\n<div><br />\nThis meditation is a moment of pause in your busy life\, so that you can feel into what you want.When you connect to what you want\, you connect with your heart. And when you feel it in your heart\, you create.You must connect to the heart and feel it to have it manifest in your life!</div>\n\n<div><br />\nWe will have varying experiential exercises to help you connect to your breath\, allow you space to pause\, and listen to your inner wants\, desires\, intentions\, wishes\, goals\, and or dreams. You will connect these to your heart so that you can build the life you want. Activities that are used to help you connect are Yoga\, Sound Healing\, Meditation\, Art\, Journaling\, essential oils\, and group participation.</div>\n\n<div><br />\nWe use activities that quiet the mind\; and help you go into your heart. We at Torus believe that the heart is where our purpose is found.These activities may change from month to month.</div>\n\n<div><br />\nWe invite you to listen to your heart.The voice is always there\, we are just here to guide you.</div>\n\n<div><br />\nWe look forward to seeing you at our New Moon Meditation!</div>\n\n<div><br />\nHosted by Jamie Kruse and Torus Center for Integrative Healing.</div>\n\n<div><br />\nInvestment is $36\, please follow the link to sign up &amp\; register.<br />\nYou will receive an email confirmation and ticket number to bring at the time of the event.</div>\n\n<div><br />\nDates:<br />\nTuesday\, May 27th&nbsp\;</div>\n
LOCATION:Torus Center for Integrative Healing 121 Flinn St Batavia\, IL 60510
UID:e.1902.26827
SEQUENCE:3
DTSTAMP:20260422T102032Z
URL:http://business.bataviachamber.org/events/details/new-moon-connecting-to-your-purpose-meditation-05-27-2025-26827
END:VEVENT

END:VCALENDAR
