BEGIN:VCALENDAR
VERSION:2.0
PRODID:-//ChamberMaster//Event Calendar 2.0//EN
METHOD:PUBLISH
X-PUBLISHED-TTL:P3D
REFRESH-INTERVAL:P3D
CALSCALE:GREGORIAN
BEGIN:VEVENT
DTSTART:20101019T050000Z
DTEND:20101019T050000Z
X-MICROSOFT-CDO-ALLDAYEVENT:FALSE
SUMMARY:Networking Group Meeting
DESCRIPTION:1st and third Tuesday of the month meeting to pass leads and get to know one another
X-ALT-DESC;FMTTYPE=text/html:1st and third Tuesday of the month meeting to pass leads and get to know one another
LOCATION:
UID:e.1902.78
SEQUENCE:3
DTSTAMP:20260420T133550Z
URL:http://business.bataviachamber.org/events/details/networking-group-meeting-10-19-2010-78
END:VEVENT

END:VCALENDAR
